BEGIN:VCALENDAR
VERSION:2.0
PRODID:-//ChamberMaster//Event Calendar 2.0//EN
METHOD:PUBLISH
X-PUBLISHED-TTL:P3D
REFRESH-INTERVAL:P3D
CALSCALE:GREGORIAN
BEGIN:VEVENT
DTSTART:20200722T140000Z
DTEND:20200722T153000Z
X-MICROSOFT-CDO-ALLDAYEVENT:FALSE
SUMMARY:Virtual Wake-Up Moreno Valley - Sponsor Altura Credit Uniion
DESCRIPTION:Wake-Up Moreno Valley features community updates\, city council reports\, education\, service and non-profit organization information\, and a special guest speaker.
X-ALT-DESC;FMTTYPE=text/html:<span style="color: rgb(68\, 68\, 68)\; font-family: Tahoma\, Arial\, sans-serif\; font-size: 14px\;">Wake-Up Moreno Valley features community updates\, city council reports\, education\, service and non-profit organization information\, and a special guest speaker.</span>
LOCATION:Virtual Call the Chamber for link.
UID:e.1843.2879
SEQUENCE:3
DTSTAMP:20260425T143744Z
URL:https://business.movalchamber.org/events/details/virtual-wake-up-moreno-valley-sponsor-altura-credit-uniion-2879
END:VEVENT

END:VCALENDAR
