BEGIN:VCALENDAR
VERSION:2.0
PRODID:-//ChamberMaster//Event Calendar 2.0//EN
METHOD:PUBLISH
X-PUBLISHED-TTL:P3D
REFRESH-INTERVAL:P3D
CALSCALE:GREGORIAN
BEGIN:VEVENT
DTSTART:20211027T140000Z
DTEND:20211027T153000Z
X-MICROSOFT-CDO-ALLDAYEVENT:FALSE
SUMMARY:Wake-Up Moreno Valley
DESCRIPTION:Wake-Up Moreno Valley\n\n						Sponsored by\n\n						Prime Care of Moreno Valley\n						\n						\n					\n				\n			\n			\n			\n		\n	\n\n\n\n	\n		\n			\n			\n			\n				\n					\n						\n						 \n\n						\n						 \n\n						Wednesday\, October 27\, 2021\n\n						 \n\n						7:00 a.m. breakfast / networking\n\n						7:30 a.m. program.
X-ALT-DESC;FMTTYPE=text/html:<table border="0" cellpadding="0" cellspacing="0" class="galileo-ap-layout-editor" style="border-collapse: collapse\; table-layout: fixed\; color: rgb(0\, 0\, 0)\; font-family: &quot\;Times New Roman&quot\;\; font-size: medium\; min-width: 100%\;" width="100%">\n	<tbody>\n		<tr>\n			<td align="left" class="headline editor-col OneColumnMobile" valign="top" width="100%">\n			<div class="gl-contains-text">\n			<table border="0" cellpadding="0" cellspacing="0" style="border-collapse: collapse\; table-layout: fixed\; min-width: 100%\;" width="100%">\n				<tbody>\n					<tr>\n						<td align="left" class="editor-text headline-text" style="-webkit-font-smoothing: antialiased\; font-family: Arial\, Verdana\, Helvetica\, sans-serif\; font-size: 24px\; color: rgb(0\, 83\, 156)\; text-align: center\; display: block\; overflow-wrap: break-word\; line-height: 1.2\; font-weight: bold\; padding: 10px 20px\;" valign="top">\n						<div class="text-container galileo-ap-content-editor">\n						<div>Wake-Up Moreno Valley<br />\n						Sponsored by</div>\n\n						<div>Prime Care of Moreno Valley</div>\n						</div>\n						</td>\n					</tr>\n				</tbody>\n			</table>\n			</div>\n			</td>\n		</tr>\n	</tbody>\n</table>\n\n<table border="0" cellpadding="0" cellspacing="0" class="galileo-ap-layout-editor" style="border-collapse: collapse\; table-layout: fixed\; color: rgb(0\, 0\, 0)\; font-family: &quot\;Times New Roman&quot\;\; font-size: medium\; min-width: 100%\;" width="100%">\n	<tbody>\n		<tr>\n			<td align="" class="editor-col OneColumnMobile" valign="top" width="100%">\n			<div class="gl-contains-text">\n			<table border="0" cellpadding="0" cellspacing="0" style="border-collapse: collapse\; table-layout: fixed\; min-width: 100%\;" width="100%">\n				<tbody>\n					<tr>\n						<td align="left" class="editor-text editor-text " style="-webkit-font-smoothing: antialiased\; font-family: Arial\, Verdana\, Helvetica\, sans-serif\; font-size: 12px\; color: rgb(64\, 63\, 66)\; display: block\; overflow-wrap: break-word\; line-height: 1.2\; padding: 10px 20px\;" valign="top">\n						<div>&nbsp\;</div>\n\n						<div class="text-container galileo-ap-content-editor">\n						<div align="center" style="text-align: center\;">&nbsp\;</div>\n\n						<div align="center" style="text-align: center\;"><span style="font-size: 22px\; color: rgb(235\, 76\, 57)\; font-weight: bold\;">Wednesday\, October 27\, 2021</span></div>\n\n						<div align="center" style="text-align: center\;">&nbsp\;</div>\n\n						<div align="center" style="text-align: center\;"><span style="font-size: 18px\; color: rgb(0\, 0\, 0)\;">7:00 a.m. breakfast / networking</span></div>\n\n						<div align="center" style="text-align: center\;"><span style="font-size: 18px\; color: rgb(0\, 0\, 0)\;">7:30 a.m. program.</span></div>\n						</div>\n						</td>\n					</tr>\n				</tbody>\n			</table>\n			</div>\n			</td>\n		</tr>\n	</tbody>\n</table>\n
LOCATION:*Note Location! Ayres Hotel & Spa 12631 Memorial Way
UID:e.1843.3323
SEQUENCE:3
DTSTAMP:20260424T110628Z
URL:https://business.movalchamber.org/events/details/wake-up-moreno-valley-3323
END:VEVENT

END:VCALENDAR
