BEGIN:VCALENDAR
VERSION:2.0
PRODID:-//ChamberMaster//Event Calendar 2.0//EN
METHOD:PUBLISH
X-PUBLISHED-TTL:P3D
REFRESH-INTERVAL:P3D
CALSCALE:GREGORIAN
BEGIN:VEVENT
DTSTART;VALUE=DATE:20200325
DTEND;VALUE=DATE:20200326
TRANSP:TRANSPARENT
X-MICROSOFT-CDO-ALLDAYEVENT:TRUE
SUMMARY:Wake-Up Moreno Valley has been cancelled for March
DESCRIPTION:Following the recommendations from the Centers for Disease Control and Prevention\, as well as state and county health departments Wake-Up Moreno Valley has been Cancelled.
X-ALT-DESC;FMTTYPE=text/html:<span style="color: rgb(68\, 68\, 68)\; font-family: &quot\;times new roman&quot\;\, times\, serif\;">Following the recommendations from the Centers for Disease Control and Prevention\, as well as state and county health departments Wake-Up Moreno Valley has been Cancelled.</span>
LOCATION:
UID:e.1843.2875
SEQUENCE:3
DTSTAMP:20260425T233419Z
URL:https://business.movalchamber.org/events/details/wake-up-moreno-valley-has-been-cancelled-for-march-2875
END:VEVENT

END:VCALENDAR
