BEGIN:VCALENDAR
VERSION:2.0
PRODID:-//ChamberMaster//Event Calendar 2.0//EN
METHOD:PUBLISH
X-PUBLISHED-TTL:P3D
REFRESH-INTERVAL:P3D
CALSCALE:GREGORIAN
BEGIN:VEVENT
DTSTART:20210623T140000Z
DTEND:20210623T160000Z
X-MICROSOFT-CDO-ALLDAYEVENT:FALSE
SUMMARY:Wake-Up Moreno Valley - Sponsor\, Riverside County Supervisor Jeff Hewitt\, 5th District
DESCRIPTION:WE ARE BACK!\n\nIN PERSON\n\n\nWake-Up Moreno Valley features community updates\, city council reports\, education\, service and non-profit organization information\, and a special guest speaker.
X-ALT-DESC;FMTTYPE=text/html:<div style="color: rgb(237\, 28\, 36)\; font-family: &quot\;Century Gothic&quot\;\, Calibri\, Helvetica\, Arial\, sans-serif\; font-size: 18px\; text-align: center\; white-space: pre-wrap\;"><span style="font-size:28px\;"><span style="font-family: Tahoma\, Geneva\, sans-serif\; font-weight: bold\;">WE ARE </span></span><span style="font-size:28px\;"><span style="font-family: Tahoma\, Geneva\, sans-serif\; font-weight: bold\;">BACK!</span></span></div>\n\n<div style="color: rgb(237\, 28\, 36)\; font-family: &quot\;Century Gothic&quot\;\, Calibri\, Helvetica\, Arial\, sans-serif\; font-size: 18px\; text-align: center\; white-space: pre-wrap\;"><span style="font-size:28px\;"><span style="font-family: Tahoma\, Geneva\, sans-serif\; font-weight: bold\;">IN PERSON</span></span></div>\n<br />\n<span style="color: rgb(68\, 68\, 68)\; font-family: Tahoma\, Arial\, sans-serif\; font-size: 14px\;">Wake-Up Moreno Valley features community updates\, city council reports\, education\, service and non-profit organization information\, and a special guest speaker.</span>
LOCATION:Ayres Hotel & Spa 12631 Memorial Way
UID:e.1843.3062
SEQUENCE:3
DTSTAMP:20260424T195742Z
URL:https://business.movalchamber.org/events/details/wake-up-moreno-valley-sponsor-riverside-county-supervisor-jeff-hewitt-5th-district-3062
END:VEVENT

END:VCALENDAR
