BEGIN:VCALENDAR
VERSION:2.0
PRODID:-//ChamberMaster//Event Calendar 2.0//EN
METHOD:PUBLISH
X-PUBLISHED-TTL:P3D
REFRESH-INTERVAL:P3D
CALSCALE:GREGORIAN
BEGIN:VEVENT
DTSTART;VALUE=DATE:20220525
DTEND;VALUE=DATE:20220526
TRANSP:TRANSPARENT
X-MICROSOFT-CDO-ALLDAYEVENT:TRUE
SUMMARY:Wake Up Moreno Valley Sponsor: State Farm Insurance
DESCRIPTION:Sponsored by State Farm Insurance
X-ALT-DESC;FMTTYPE=text/html:Sponsored by State Farm Insurance
LOCATION:
UID:e.1843.3346
SEQUENCE:3
DTSTAMP:20260419T144834Z
URL:https://business.movalchamber.org/events/details/wake-up-moreno-valley-sponsor-state-farm-insurance-3346
END:VEVENT

END:VCALENDAR
