BEGIN:VCALENDAR
VERSION:2.0
PRODID:-//ChamberMaster//Event Calendar 2.0//EN
METHOD:PUBLISH
X-PUBLISHED-TTL:P3D
REFRESH-INTERVAL:P3D
CALSCALE:GREGORIAN
BEGIN:VEVENT
DTSTART:20210707T160000Z
DTEND:20210707T170000Z
X-MICROSOFT-CDO-ALLDAYEVENT:FALSE
SUMMARY:Webinar: Paycheck Protection Program (PPP) Forgiveness
DESCRIPTION:First and Second Draw PPP Applications may be eligible to apply for loan forgiveness once all loan proceeds for which the borrower is requesting forgiveness have been used. This webinar will review: First and Second Draw Loan Forgiveness Terms\; How and When to Apply for Forgiveness\; and Forgiveness Forms and Instructions. You will receive a link to this webinar one day before.
X-ALT-DESC;FMTTYPE=text/html:First and Second Draw PPP Applications may be eligible to apply for loan forgiveness once all loan proceeds for which the borrower is requesting forgiveness have been used. This webinar will review: First and Second Draw Loan Forgiveness Terms\; How and When to Apply for Forgiveness\; and Forgiveness Forms and Instructions. You will receive a link to this webinar one day before.
LOCATION:
UID:e.1843.3106
SEQUENCE:3
DTSTAMP:20260424T163638Z
URL:https://business.movalchamber.org/events/details/webinar-paycheck-protection-program-ppp-forgiveness-3106
END:VEVENT

END:VCALENDAR
