BEGIN:VCALENDAR
VERSION:2.0
PRODID:-//ChamberMaster//Event Calendar 2.0//EN
METHOD:PUBLISH
X-PUBLISHED-TTL:P3D
REFRESH-INTERVAL:P3D
CALSCALE:GREGORIAN
BEGIN:VEVENT
DTSTART:20201022T210000Z
DTEND:20201022T223000Z
X-MICROSOFT-CDO-ALLDAYEVENT:FALSE
SUMMARY:Workplace Guidance for COVID-19
DESCRIPTION:Employers who have been affected by COVID-19 will not want to miss out on this webinar. Instructor Lynn Hounsley\, Integrity HR\, Inc.\, will recap the COVID-19 Human Resource climate relating to: 1. Emergency Leave Act 2. CARES Act 3. Working Remotely
X-ALT-DESC;FMTTYPE=text/html:Employers who have been affected by COVID-19 will not want to miss out on this webinar. Instructor Lynn Hounsley\, Integrity HR\, Inc.\, will recap the COVID-19 Human Resource climate relating to: 1. Emergency Leave Act 2. CARES Act 3. Working Remotely
LOCATION:Online
UID:e.1843.2989
SEQUENCE:3
DTSTAMP:20260425T104150Z
URL:https://business.movalchamber.org/events/details/workplace-guidance-for-covid-19-2989
END:VEVENT

END:VCALENDAR
